BEGIN:VCALENDAR
VERSION:2.0
PRODID:-//Tree Yard International - ECPv6.15.14//NONSGML v1.0//EN
CALSCALE:GREGORIAN
METHOD:PUBLISH
X-WR-CALNAME:Tree Yard International
X-ORIGINAL-URL:https://treeyardinternational.com
X-WR-CALDESC:Events for Tree Yard International
REFRESH-INTERVAL;VALUE=DURATION:PT1H
X-Robots-Tag:noindex
X-PUBLISHED-TTL:PT1H
BEGIN:VTIMEZONE
TZID:UTC
BEGIN:STANDARD
TZOFFSETFROM:+0000
TZOFFSETTO:+0000
TZNAME:UTC
DTSTART:20250101T000000
END:STANDARD
END:VTIMEZONE
BEGIN:VEVENT
DTSTART;VALUE=DATE:20260413
DTEND;VALUE=DATE:20260425
DTSTAMP:20260421T151549
CREATED:20250612T064656Z
LAST-MODIFIED:20260420T054331Z
UID:6556-1776038400-1777075199@treeyardinternational.com
SUMMARY:Spring Break
DESCRIPTION:
URL:https://treeyardinternational.com/calendar/spring-break/
CATEGORIES:2025-2026 calendar
ATTACH;FMTTYPE=image/jpeg:https://treeyardinternational.com/wp-content/uploads/2025/03/easter-e1742278263822.jpeg
END:VEVENT
BEGIN:VEVENT
DTSTART;VALUE=DATE:20260501
DTEND;VALUE=DATE:20260502
DTSTAMP:20260421T151549
CREATED:20250612T065026Z
LAST-MODIFIED:20260420T053850Z
UID:6558-1777593600-1777679999@treeyardinternational.com
SUMMARY:National Labour Day
DESCRIPTION:
URL:https://treeyardinternational.com/calendar/national-labour-day/
CATEGORIES:2025-2026 calendar,Public Holidays
ATTACH;FMTTYPE=image/png:https://treeyardinternational.com/wp-content/uploads/2024/10/6.png
END:VEVENT
BEGIN:VEVENT
DTSTART;VALUE=DATE:20260529
DTEND;VALUE=DATE:20260530
DTSTAMP:20260421T151549
CREATED:20250612T065238Z
LAST-MODIFIED:20260420T053813Z
UID:6560-1780012800-1780099199@treeyardinternational.com
SUMMARY:Ascension Day
DESCRIPTION:
URL:https://treeyardinternational.com/calendar/ascension-day/
CATEGORIES:2025-2026 calendar,Public Holidays
ATTACH;FMTTYPE=image/png:https://treeyardinternational.com/wp-content/uploads/2024/10/9.png
END:VEVENT
BEGIN:VEVENT
DTSTART;VALUE=DATE:20260601
DTEND;VALUE=DATE:20260603
DTSTAMP:20260421T151549
CREATED:20250612T065523Z
LAST-MODIFIED:20260420T053732Z
UID:6562-1780272000-1780444799@treeyardinternational.com
SUMMARY:Substitute for Visakha Bucha Day (May 31)
DESCRIPTION:
URL:https://treeyardinternational.com/calendar/substitute-for-visakha-bucha-day-may-31/
CATEGORIES:2025-2026 calendar,Public Holidays
ATTACH;FMTTYPE=image/png:https://treeyardinternational.com/wp-content/uploads/2024/10/8.png
END:VEVENT
BEGIN:VEVENT
DTSTART;VALUE=DATE:20260603
DTEND;VALUE=DATE:20260604
DTSTAMP:20260421T151549
CREATED:20250612T065747Z
LAST-MODIFIED:20260420T053428Z
UID:6564-1780444800-1780531199@treeyardinternational.com
SUMMARY:Queen Suthida’s Birthday
DESCRIPTION:
URL:https://treeyardinternational.com/calendar/queen-suthidas-birthday/
CATEGORIES:2025-2026 calendar,Public Holidays
ATTACH;FMTTYPE=image/png:https://treeyardinternational.com/wp-content/uploads/2024/10/1.png
END:VEVENT
BEGIN:VEVENT
DTSTART;VALUE=DATE:20260720
DTEND;VALUE=DATE:20260831
DTSTAMP:20260421T151549
CREATED:20250612T070106Z
LAST-MODIFIED:20260420T053406Z
UID:6566-1784505600-1788134399@treeyardinternational.com
SUMMARY:Summer Break
DESCRIPTION:
URL:https://treeyardinternational.com/calendar/summer-break/
CATEGORIES:Camps
ATTACH;FMTTYPE=image/jpeg:https://treeyardinternational.com/wp-content/uploads/2025/04/summer-banner.jpg
END:VEVENT
BEGIN:VEVENT
DTSTART;VALUE=DATE:20260831
DTEND;VALUE=DATE:20261219
DTSTAMP:20260421T151549
CREATED:20260420T070654Z
LAST-MODIFIED:20260420T073810Z
UID:9541-1788134400-1797638399@treeyardinternational.com
SUMMARY:Term 1 (2026-2027)
DESCRIPTION:
URL:https://treeyardinternational.com/calendar/2026-2027-term-1/
LOCATION:Tree Yard International School\, 131/16 moo1\, Boput\, surrat thani\, 84320\, Thailand
CATEGORIES:2026-2027 calendar
ATTACH;FMTTYPE=image/png:https://treeyardinternational.com/wp-content/uploads/2026/04/1.png
END:VEVENT
BEGIN:VEVENT
DTSTART;VALUE=DATE:20261013
DTEND;VALUE=DATE:20261014
DTSTAMP:20260421T151549
CREATED:20260420T070807Z
LAST-MODIFIED:20260420T070807Z
UID:9544-1791849600-1791935999@treeyardinternational.com
SUMMARY:His Majesty King Bhumibol Adulyadej The Great Memorial Day
DESCRIPTION:
URL:https://treeyardinternational.com/calendar/his-majesty-king-bhumibol-adulyadej-the-great-memorial-day/
CATEGORIES:2026-2027 calendar,Public Holidays
ATTACH;FMTTYPE=image/png:https://treeyardinternational.com/wp-content/uploads/2026/04/4.png
END:VEVENT
BEGIN:VEVENT
DTSTART;VALUE=DATE:20261024
DTEND;VALUE=DATE:20261102
DTSTAMP:20260421T151549
CREATED:20260420T071015Z
LAST-MODIFIED:20260420T071015Z
UID:9547-1792800000-1793577599@treeyardinternational.com
SUMMARY:October midterm break (Term 1)
DESCRIPTION:
URL:https://treeyardinternational.com/calendar/october-midterm-break-term-1/
CATEGORIES:2026-2027 calendar,School Break
ATTACH;FMTTYPE=image/png:https://treeyardinternational.com/wp-content/uploads/2026/04/5.png
END:VEVENT
BEGIN:VEVENT
DTSTART;VALUE=DATE:20261102
DTEND;VALUE=DATE:20261103
DTSTAMP:20260421T151549
CREATED:20260420T071507Z
LAST-MODIFIED:20260420T071507Z
UID:9553-1793577600-1793663999@treeyardinternational.com
SUMMARY:Staff Training day (School closed)
DESCRIPTION:
URL:https://treeyardinternational.com/calendar/staff-training-day-school-closed/
CATEGORIES:2025-2026 calendar,School Break
ATTACH;FMTTYPE=image/png:https://treeyardinternational.com/wp-content/uploads/2026/04/6.png
END:VEVENT
BEGIN:VEVENT
DTSTART;VALUE=DATE:20261207
DTEND;VALUE=DATE:20261208
DTSTAMP:20260421T151549
CREATED:20260420T071317Z
LAST-MODIFIED:20260420T071317Z
UID:9550-1796601600-1796687999@treeyardinternational.com
SUMMARY:Substitude for King Bhumibol Adulyadej's Birthday
DESCRIPTION:
URL:https://treeyardinternational.com/calendar/substitude-for-king-bhumibol-adulyadejs-birthday/
CATEGORIES:2026-2027 calendar,Public Holidays
ATTACH;FMTTYPE=image/png:https://treeyardinternational.com/wp-content/uploads/2026/04/10.png
END:VEVENT
BEGIN:VEVENT
DTSTART;VALUE=DATE:20261219
DTEND;VALUE=DATE:20270104
DTSTAMP:20260421T151549
CREATED:20260420T071719Z
LAST-MODIFIED:20260420T071719Z
UID:9556-1797638400-1799020799@treeyardinternational.com
SUMMARY:Winter Break
DESCRIPTION:
URL:https://treeyardinternational.com/calendar/winter-break-2/
CATEGORIES:2026-2027 calendar,School Break
ATTACH;FMTTYPE=image/png:https://treeyardinternational.com/wp-content/uploads/2026/04/7.png
END:VEVENT
BEGIN:VEVENT
DTSTART;VALUE=DATE:20270104
DTEND;VALUE=DATE:20270105
DTSTAMP:20260421T151549
CREATED:20260420T071855Z
LAST-MODIFIED:20260420T071855Z
UID:9559-1799020800-1799107199@treeyardinternational.com
SUMMARY:Staff Training day (School is closed)
DESCRIPTION:
URL:https://treeyardinternational.com/calendar/staff-training-day-school-is-closed/
CATEGORIES:2026-2027 calendar,School Break
ATTACH;FMTTYPE=image/png:https://treeyardinternational.com/wp-content/uploads/2026/04/6.png
END:VEVENT
BEGIN:VEVENT
DTSTART;VALUE=DATE:20270105
DTEND;VALUE=DATE:20270403
DTSTAMP:20260421T151549
CREATED:20260420T072950Z
LAST-MODIFIED:20260420T072950Z
UID:9572-1799107200-1806710399@treeyardinternational.com
SUMMARY:Term 2 (2026-2027)
DESCRIPTION:
URL:https://treeyardinternational.com/calendar/term-2-2026-2027/
CATEGORIES:2026-2027 calendar
ATTACH;FMTTYPE=image/png:https://treeyardinternational.com/wp-content/uploads/2026/04/2.png
END:VEVENT
BEGIN:VEVENT
DTSTART;VALUE=DATE:20270215
DTEND;VALUE=DATE:20270222
DTSTAMP:20260421T151549
CREATED:20260420T072225Z
LAST-MODIFIED:20260420T072225Z
UID:9562-1802649600-1803254399@treeyardinternational.com
SUMMARY:February Midterm Break
DESCRIPTION:
URL:https://treeyardinternational.com/calendar/february-midterm-break/
CATEGORIES:2026-2027 calendar,School Break
ATTACH;FMTTYPE=image/png:https://treeyardinternational.com/wp-content/uploads/2026/04/feb.png
END:VEVENT
BEGIN:VEVENT
DTSTART;VALUE=DATE:20270222
DTEND;VALUE=DATE:20270223
DTSTAMP:20260421T151549
CREATED:20260420T072318Z
LAST-MODIFIED:20260420T072318Z
UID:9565-1803254400-1803340799@treeyardinternational.com
SUMMARY:Staff Training Day (School closed)
DESCRIPTION:
URL:https://treeyardinternational.com/calendar/staff-training-day-school-closed-2/
CATEGORIES:2026-2027 calendar,School Break
ATTACH;FMTTYPE=image/png:https://treeyardinternational.com/wp-content/uploads/2026/04/6.png
END:VEVENT
BEGIN:VEVENT
DTSTART;VALUE=DATE:20270405
DTEND;VALUE=DATE:20270419
DTSTAMP:20260421T151549
CREATED:20260420T072624Z
LAST-MODIFIED:20260420T072624Z
UID:9567-1806883200-1808092799@treeyardinternational.com
SUMMARY:Spring Break
DESCRIPTION:
URL:https://treeyardinternational.com/calendar/spring-break-2/
CATEGORIES:2026-2027 calendar,School Break
ATTACH;FMTTYPE=image/png:https://treeyardinternational.com/wp-content/uploads/2026/04/8.png
END:VEVENT
BEGIN:VEVENT
DTSTART;VALUE=DATE:20270419
DTEND;VALUE=DATE:20270420
DTSTAMP:20260421T151549
CREATED:20260420T072822Z
LAST-MODIFIED:20260420T072822Z
UID:9570-1808092800-1808179199@treeyardinternational.com
SUMMARY:Staff Trainning Day
DESCRIPTION:
URL:https://treeyardinternational.com/calendar/staff-trainning-day/
CATEGORIES:2026-2027 calendar,School Break
ATTACH;FMTTYPE=image/png:https://treeyardinternational.com/wp-content/uploads/2026/04/6.png
END:VEVENT
BEGIN:VEVENT
DTSTART;VALUE=DATE:20270420
DTEND;VALUE=DATE:20270710
DTSTAMP:20260421T151549
CREATED:20260420T073109Z
LAST-MODIFIED:20260420T073109Z
UID:9575-1808179200-1815177599@treeyardinternational.com
SUMMARY:Term 3 (2026-2027)
DESCRIPTION:
URL:https://treeyardinternational.com/calendar/term-3-2026-2027/
CATEGORIES:2026-2027 calendar
ATTACH;FMTTYPE=image/png:https://treeyardinternational.com/wp-content/uploads/2026/04/3.png
END:VEVENT
BEGIN:VEVENT
DTSTART;VALUE=DATE:20270601
DTEND;VALUE=DATE:20270602
DTSTAMP:20260421T151549
CREATED:20260420T073317Z
LAST-MODIFIED:20260420T073317Z
UID:9578-1811808000-1811894399@treeyardinternational.com
SUMMARY:Substitude for Visakha Bucha Day
DESCRIPTION:
URL:https://treeyardinternational.com/calendar/substitude-for-visakha-bucha-day/
CATEGORIES:2026-2027 calendar,Public Holidays
ATTACH;FMTTYPE=image/png:https://treeyardinternational.com/wp-content/uploads/2026/04/11.png
END:VEVENT
BEGIN:VEVENT
DTSTART;VALUE=DATE:20270602
DTEND;VALUE=DATE:20270605
DTSTAMP:20260421T151549
CREATED:20260420T073422Z
LAST-MODIFIED:20260420T073422Z
UID:9581-1811894400-1812153599@treeyardinternational.com
SUMMARY:Queen Suthida's Birthday
DESCRIPTION:
URL:https://treeyardinternational.com/calendar/queen-suthidas-birthday-2/
CATEGORIES:2026-2027 calendar,Public Holidays
ATTACH;FMTTYPE=image/png:https://treeyardinternational.com/wp-content/uploads/2026/04/12.png
END:VEVENT
BEGIN:VEVENT
DTSTART;VALUE=DATE:20270607
DTEND;VALUE=DATE:20270608
DTSTAMP:20260421T151549
CREATED:20260420T073515Z
LAST-MODIFIED:20260420T073515Z
UID:9584-1812326400-1812412799@treeyardinternational.com
SUMMARY:Staff Training Day
DESCRIPTION:
URL:https://treeyardinternational.com/calendar/staff-training-day/
CATEGORIES:2026-2027 calendar,School Break
ATTACH;FMTTYPE=image/png:https://treeyardinternational.com/wp-content/uploads/2026/04/6.png
END:VEVENT
BEGIN:VEVENT
DTSTART;VALUE=DATE:20270710
DTEND;VALUE=DATE:20270830
DTSTAMP:20260421T151549
CREATED:20260420T073627Z
LAST-MODIFIED:20260420T073643Z
UID:9586-1815177600-1819583999@treeyardinternational.com
SUMMARY:Summer Break
DESCRIPTION:
URL:https://treeyardinternational.com/calendar/summer-break-2/
CATEGORIES:2026-2027 calendar,School Break
ATTACH;FMTTYPE=image/png:https://treeyardinternational.com/wp-content/uploads/2026/04/9.png
END:VEVENT
END:VCALENDAR